BEGIN:VCALENDAR
VERSION:2.0
PRODID:-//PYVOBJECT//NONSGML Version 1//EN
BEGIN:VEVENT
UID:23556:5715
DTSTART:20171203T100000
DTEND:20171203T170000
DESCRIPTION:\n	Pr&auml\;sentation und Verkauf von:\n\n	Handgemachten Deko&#
 39\;s\, Schmuck und Lik&ouml\;re\n	\n	Sylvia und Christan laden ein\n	\n	O
 rt:&nbsp\;\n	ASK&Ouml\; KEGELVEREIN&nbsp\;\n	Riedelbachstr. 18\n	5212 Schn
 eegattern\n\n	&nbsp\;\n\n	\n\n	Diese sch&ouml\;ne Designleuchte wird unter
  allen Besuchern verlost.\n
DTSTAMP:20260421T155532Z
SUMMARY:ADVENT ADVENT
END:VEVENT
END:VCALENDAR
